BEGIN:VCALENDAR
METHOD:PUBLISH
PRODID:-//github.com/rianjs/ical.net//NONSGML ical.net 4.0//EN
VERSION:2.0
X-WR-CALNAME:Einstein Elementary PTSA
BEGIN:VEVENT
CREATED:20260420T140110
DTEND:20260425T030000Z
DTSTAMP:20260421T104833Z
DTSTART:20260425T013000Z
LAST-MODIFIED:20260420T140110
LOCATION:Einstein Gym
SEQUENCE:0
STATUS:CONFIRMED
SUMMARY:Movie Night - WALL-E
TRANSP:TRANSPARENT
UID:145557@ourschoolpages.com
END:VEVENT
END:VCALENDAR
